BEGIN:VCALENDAR
VERSION:2.0
PRODID:-//Sabre//Sabre VObject 4.5.8//EN
CALSCALE:GREGORIAN
BEGIN:VEVENT
UID:sabre-vobject-6bbb1112-8672-4e7f-992a-59dbdffbc7d7
DTSTAMP:20260424T185645Z
SUMMARY:Rosenkranz zu Ehren des Unbefleckten Herzens Mariä
DESCRIPTION:https://www2.bistum-augsburg.de/gottesdienste/rosenkranz-zu-ehr
 en-des-unbefleckten-herzens-mariae_id1732260
DTSTART;TZID=Europe/Berlin:20260503T100000
DURATION:PT30M
LOCATION:St. Sebastian
END:VEVENT
END:VCALENDAR
