BEGIN:VCALENDAR
VERSION:2.0
PRODID:-//Sabre//Sabre VObject 4.5.8//EN
CALSCALE:GREGORIAN
BEGIN:VEVENT
UID:sabre-vobject-c08bbb08-8bce-4a22-b00c-e74b8fe326ef
DTSTAMP:20260423T142357Z
SUMMARY:Rosenkranz für die Verstorbenen der PG
DESCRIPTION:https://www2.bistum-augsburg.de/gottesdienste/rosenkranz-fuer-d
 ie-verstorbenen-der-pg_id1732268
DTSTART;TZID=Europe/Berlin:20260428T170000
DURATION:PT30M
LOCATION:Mariä Himmelfahrt
END:VEVENT
END:VCALENDAR
