BEGIN:VCALENDAR
VERSION:2.0
PRODID:-//Sabre//Sabre VObject 4.5.8//EN
CALSCALE:GREGORIAN
BEGIN:VEVENT
UID:sabre-vobject-6b0c82df-c4fc-4637-b827-845c1d301a03
DTSTAMP:20260423T175245Z
SUMMARY:Feierlicher Eröffnungsgottesdienst zum Marienmonat Mai\nfür die L
 ebenden und Verstorbenen der Pfarreiengemeinschaft\, anschl. Feierliche Ma
 iandacht
DESCRIPTION:https://www2.bistum-augsburg.de/gottesdienste/feierlicher-eroef
 fnungsgottesdienst-zum-marienmonat-mai-fuer-die-lebenden-und-verstorbenen-
 der-pfarreiengemeinschaft-anschl-feierliche-maiandacht_id1732286
DTSTART;TZID=Europe/Berlin:20260501T190000
DURATION:PT30M
LOCATION:St. Jodok\, Richard-Mahn-Straße 2 1/2\, 87541 Bad Oberndorf
END:VEVENT
END:VCALENDAR
