BEGIN:VCALENDAR
VERSION:2.0
PRODID:-//Sabre//Sabre VObject 4.5.8//EN
CALSCALE:GREGORIAN
BEGIN:VEVENT
UID:sabre-vobject-16c9b0b9-3cf5-422d-b987-879730a70315
DTSTAMP:20260423T205022Z
SUMMARY:Bittgang nach Hinterstein\, dort Hl. Messe
DESCRIPTION:https://www2.bistum-augsburg.de/gottesdienste/bittgang-nach-hin
 terstein-dort-hl-messe_id1732290
DTSTART;TZID=Europe/Berlin:20260512T063000
DURATION:PT30M
LOCATION:St. Jodok\, Richard-Mahn-Straße 2 1/2\, 87541 Bad Oberndorf
END:VEVENT
END:VCALENDAR
