BEGIN:VCALENDAR
VERSION:2.0
PRODID:-//Sabre//Sabre VObject 4.5.8//EN
CALSCALE:GREGORIAN
BEGIN:VEVENT
UID:sabre-vobject-ca112eb6-9f9a-4e6a-b07a-7c4dd786185c
DTSTAMP:20260423T175251Z
SUMMARY:Schanzpark: Festgottesdienst zu Christi Himmelfahrt (bei Regen in d
 er Kirche BO)
DESCRIPTION:https://www2.bistum-augsburg.de/gottesdienste/schanzpark-festgo
 ttesdienst-zu-christi-himmelfahrt-bei-regen-in-der-kirche-bo_id1732292
DTSTART;TZID=Europe/Berlin:20260514T093000
DURATION:PT30M
LOCATION:St. Jodok\, Richard-Mahn-Straße 2 1/2\, 87541 Bad Oberndorf
END:VEVENT
END:VCALENDAR
