BEGIN:VCALENDAR
VERSION:2.0
PRODID:-//Sabre//Sabre VObject 4.5.8//EN
CALSCALE:GREGORIAN
BEGIN:VEVENT
UID:sabre-vobject-3d6ae2dd-0cec-4020-8f2a-88dbb8d354b3
DTSTAMP:20260424T193033Z
SUMMARY:Bittgang nach Vorderhindelang\, dort Hl. Messe
DESCRIPTION:https://www2.bistum-augsburg.de/gottesdienste/bittgang-nach-vor
 derhindelang-dort-hl-messe_id1732301
DTSTART;TZID=Europe/Berlin:20260511T190000
DURATION:PT30M
LOCATION:St. Johannes Baptist
END:VEVENT
END:VCALENDAR
