BEGIN:VCALENDAR
VERSION:2.0
PRODID:-//Sabre//Sabre VObject 4.5.8//EN
CALSCALE:GREGORIAN
BEGIN:VEVENT
UID:sabre-vobject-b4e4e532-24f2-4f1d-97e9-893255391945
DTSTAMP:20260425T160907Z
SUMMARY:Pfarrheim: Vortrag - Du bist nicht allein
DESCRIPTION:https://www2.bistum-augsburg.de/gottesdienste/pfarrheim-vortrag
 -du-bist-nicht-allein_id1732303
DTSTART;TZID=Europe/Berlin:20260512T190000
DURATION:PT30M
LOCATION:St. Johannes Baptist
END:VEVENT
END:VCALENDAR
