BEGIN:VCALENDAR
VERSION:2.0
PRODID:-//Sabre//Sabre VObject 4.5.8//EN
CALSCALE:GREGORIAN
BEGIN:VEVENT
UID:sabre-vobject-a45195d1-5aa4-4aba-8777-4e1a98f019a6
DTSTAMP:20260425T214538Z
SUMMARY:Anbetung
DESCRIPTION:https://www2.bistum-augsburg.de/gottesdienste/anbetung_id173230
 5
DTSTART;TZID=Europe/Berlin:20260513T150000
DURATION:PT30M
LOCATION:St. Johannes Baptist
END:VEVENT
END:VCALENDAR
