BEGIN:VCALENDAR
VERSION:2.0
PRODID:-//Sabre//Sabre VObject 4.5.8//EN
CALSCALE:GREGORIAN
BEGIN:VEVENT
UID:sabre-vobject-f4821847-43dc-4a16-9020-dc21bb28cd0a
DTSTAMP:20260423T192323Z
SUMMARY:Maiandacht
DESCRIPTION:https://www2.bistum-augsburg.de/gottesdienste/maiandacht_id1732
 309
DTSTART;TZID=Europe/Berlin:20260504T170000
DURATION:PT30M
LOCATION:St. Jodok\, Richard-Mahn-Straße 2 1/2\, 87541 Bad Oberndorf
END:VEVENT
END:VCALENDAR
