BEGIN:VCALENDAR
VERSION:2.0
PRODID:-//Sabre//Sabre VObject 4.5.8//EN
CALSCALE:GREGORIAN
BEGIN:VEVENT
UID:sabre-vobject-65040858-444a-4c5c-b6ad-b61cee62a0d8
DTSTAMP:20260423T124946Z
SUMMARY:Rosenkranz zu Ehren des Hl. Josef
DESCRIPTION:https://www2.bistum-augsburg.de/gottesdienste/rosenkranz-zu-ehr
 en-des-hl-josef_id1732312
DTSTART;TZID=Europe/Berlin:20260429T170000
DURATION:PT30M
LOCATION:Mariä Himmelfahrt
END:VEVENT
END:VCALENDAR
