BEGIN:VCALENDAR
VERSION:2.0
PRODID:-//Sabre//Sabre VObject 4.5.8//EN
CALSCALE:GREGORIAN
BEGIN:VEVENT
UID:sabre-vobject-22e0662d-5be8-45c1-aa83-d59c5976d4c9
DTSTAMP:20260426T033818Z
SUMMARY:Anbetung
DESCRIPTION:https://www2.bistum-augsburg.de/gottesdienste/anbetung_id173232
 9
DTSTART;TZID=Europe/Berlin:20260520T150000
DURATION:PT30M
LOCATION:St. Johannes Baptist
END:VEVENT
END:VCALENDAR
