BEGIN:VCALENDAR
VERSION:2.0
PRODID:-//Sabre//Sabre VObject 4.5.8//EN
CALSCALE:GREGORIAN
BEGIN:VEVENT
UID:sabre-vobject-7f6e6bbb-d3bc-446f-9f36-36b8f6c33bbe
DTSTAMP:20260424T103824Z
SUMMARY:Pfarrmesse
DESCRIPTION:https://www2.bistum-augsburg.de/gottesdienste/pfarrmesse_id1732
 342
DTSTART;TZID=Europe/Berlin:20260502T191500
DURATION:PT30M
LOCATION:Mariä Himmelfahrt
END:VEVENT
END:VCALENDAR
