BEGIN:VCALENDAR
VERSION:2.0
PRODID:-//Sabre//Sabre VObject 4.5.8//EN
CALSCALE:GREGORIAN
BEGIN:VEVENT
UID:sabre-vobject-3c01adbc-34ac-492f-b509-ebbc581fbf01
DTSTAMP:20260425T105735Z
SUMMARY:Andacht/Wortgottesfeier
DESCRIPTION:https://www2.bistum-augsburg.de/gottesdienste/andacht-wortgotte
 sfeier_id1732377
DTSTART;TZID=Europe/Berlin:20260516T100000
DURATION:PT30M
LOCATION:St. Jakobus maj.
END:VEVENT
END:VCALENDAR
