BEGIN:VCALENDAR
VERSION:2.0
PRODID:-//Sabre//Sabre VObject 4.5.8//EN
CALSCALE:GREGORIAN
BEGIN:VEVENT
UID:sabre-vobject-4bd57e7f-cdb3-45b8-a3a2-b2d2814e5b70
DTSTAMP:20260424T121533Z
SUMMARY:Kapelle Bruck: Hl. Messe zum Hl. Nepomuk
DESCRIPTION:https://www2.bistum-augsburg.de/gottesdienste/kapelle-bruck-hl-
 messe-zum-hl-nepomuk_id1732388
DTSTART;TZID=Europe/Berlin:20260519T190000
DURATION:PT30M
LOCATION:St. Antonius
END:VEVENT
END:VCALENDAR
