BEGIN:VCALENDAR
VERSION:2.0
PRODID:-//Sabre//Sabre VObject 4.5.8//EN
CALSCALE:GREGORIAN
BEGIN:VEVENT
UID:sabre-vobject-52bf4f62-1481-4879-b775-11faf1b4d7dc
DTSTAMP:20260424T200749Z
SUMMARY:Gottesdienst am Steinkreuz / Pferdekoppel (bei schlechter Witterung
  in der Pfarrkirche) - Heilige Messe
DESCRIPTION:https://www2.bistum-augsburg.de/gottesdienste/gottesdienst-am-s
 teinkreuz-pferdekoppel-bei-schlechter-witterung-in-der-pfarrkirche-heilige
 -messe_id1732393
DTSTART;TZID=Europe/Berlin:20260511T191500
DURATION:PT30M
LOCATION:Mariä Himmelfahrt
END:VEVENT
END:VCALENDAR
