BEGIN:VCALENDAR
VERSION:2.0
PRODID:-//Sabre//Sabre VObject 4.5.8//EN
CALSCALE:GREGORIAN
BEGIN:VEVENT
UID:sabre-vobject-0959b18f-fd89-4931-8610-b0c5021b6729
DTSTAMP:20260424T163001Z
SUMMARY:Feierliche Maiandacht\, \nmusik. Gestaltung: Kinderchor
DESCRIPTION:https://www2.bistum-augsburg.de/gottesdienste/feierliche-maiand
 acht-musik-gestaltung-kinderchor_id1732401
DTSTART;TZID=Europe/Berlin:20260517T190000
DURATION:PT30M
LOCATION:Hlgst. Dreifaltigkeit
END:VEVENT
END:VCALENDAR
