BEGIN:VCALENDAR
VERSION:2.0
PRODID:-//Sabre//Sabre VObject 4.5.8//EN
CALSCALE:GREGORIAN
BEGIN:VEVENT
UID:sabre-vobject-cdba37de-97ef-4247-8cb8-07afd87c642b
DTSTAMP:20260424T112559Z
SUMMARY:Ökumenisches Friedensgebet in der evangelischen Bekenntniskirche
DESCRIPTION:https://www2.bistum-augsburg.de/gottesdienste/oekumenisches-fri
 edensgebet-in-der-evangelischen-bekenntniskirche_id1732406
DTSTART;TZID=Europe/Berlin:20260520T183000
DURATION:PT30M
LOCATION:St. Jakobus maj.
END:VEVENT
END:VCALENDAR
