BEGIN:VCALENDAR
VERSION:2.0
PRODID:-//Sabre//Sabre VObject 4.5.8//EN
CALSCALE:GREGORIAN
BEGIN:VEVENT
UID:sabre-vobject-a67af107-ff34-4681-98dc-563814161f8d
DTSTAMP:20260424T065759Z
SUMMARY:Abmarsch nach Nassenbeuren zur Maiandacht in Maria Schnee (19.00 Uh
 r) Frauenkreis)
DESCRIPTION:https://www2.bistum-augsburg.de/gottesdienste/abmarsch-nach-nas
 senbeuren-zur-maiandacht-in-maria-schnee-19-00-uhr-frauenkreis_id1732410
DTSTART;TZID=Europe/Berlin:20260522T180000
DURATION:PT30M
LOCATION:Mariä Himmelfahrt
END:VEVENT
END:VCALENDAR
