BEGIN:VCALENDAR
VERSION:2.0
PRODID:-//Sabre//Sabre VObject 4.5.8//EN
CALSCALE:GREGORIAN
BEGIN:VEVENT
UID:sabre-vobject-54dfd700-ba25-4325-b3fb-ee9e76921b02
DTSTAMP:20260423T211312Z
SUMMARY:Pilgermesse in den Anliegen der Pilger\;
DESCRIPTION:https://www2.bistum-augsburg.de/gottesdienste/pilgermesse-in-de
 n-anliegen-der-pilger_id1732422
DTSTART;TZID=Europe/Berlin:20260519T101500
DURATION:PT30M
LOCATION:Wallfahrtsdirektion Mariä Schmerzen
END:VEVENT
END:VCALENDAR
