BEGIN:VCALENDAR
VERSION:2.0
PRODID:-//Sabre//Sabre VObject 4.5.8//EN
CALSCALE:GREGORIAN
BEGIN:VEVENT
UID:sabre-vobject-b6df640e-991a-4b13-b269-265db725e38a
DTSTAMP:20260424T043058Z
SUMMARY:Rosenkranz u. Beichtgelegenheit
DESCRIPTION:https://www2.bistum-augsburg.de/gottesdienste/rosenkranz-u-beic
 htgelegenheit_id1732441
DTSTART;TZID=Europe/Berlin:20260430T183000
DURATION:PT30M
LOCATION:St. Nikolaus
END:VEVENT
END:VCALENDAR
