BEGIN:VCALENDAR
VERSION:2.0
PRODID:-//Sabre//Sabre VObject 4.5.8//EN
CALSCALE:GREGORIAN
BEGIN:VEVENT
UID:sabre-vobject-989d4f47-5e9f-45b7-a70e-a0c8267dd66c
DTSTAMP:20260424T100249Z
SUMMARY:PG - Dankandacht aller Erstkommunionkinder mit Maiandacht
DESCRIPTION:https://www2.bistum-augsburg.de/gottesdienste/pg-dankandacht-al
 ler-erstkommunionkinder-mit-maiandacht_id1732462
DTSTART;TZID=Europe/Berlin:20260517T170000
DURATION:PT30M
LOCATION:St. Martin
END:VEVENT
END:VCALENDAR
