BEGIN:VCALENDAR
VERSION:2.0
PRODID:-//Sabre//Sabre VObject 4.5.8//EN
CALSCALE:GREGORIAN
BEGIN:VEVENT
UID:sabre-vobject-f592947e-61d1-48c1-8e3d-b381f4d05113
DTSTAMP:20260425T234009Z
SUMMARY:Friedenswallfahrt mit Pfarrer Dr. Andreas Jall - 9:15 Uhr Aufstellu
 ng der Vereine am Marktplatz- 9:30 Uhr Abmarsch zur Kapelle der \,\,Schmer
 zhaften Muttergottes" - ca. 11:00 Friedensgebet und
DESCRIPTION:https://www2.bistum-augsburg.de/gottesdienste/friedenswallfahrt
 -mit-pfarrer-dr-andreas-jall-9-15-uhr-aufstellung-der-vereine-am-marktplat
 z-9-30-uhr-abmarsch-zur-kapelle-der-schmerzhaften-muttergottes-ca-11-00-fr
 iedensgebet-und_id1732468
DTSTART;TZID=Europe/Berlin:20260510T091500
DURATION:PT30M
LOCATION:St. Martin
END:VEVENT
END:VCALENDAR
