BEGIN:VCALENDAR
VERSION:2.0
PRODID:-//Sabre//Sabre VObject 4.5.8//EN
CALSCALE:GREGORIAN
BEGIN:VEVENT
UID:sabre-vobject-79520f54-c7ab-4e8e-97aa-61ea2f8c6220
DTSTAMP:20260424T051449Z
SUMMARY:Festgottesdienst - Heilige Messe
DESCRIPTION:https://www2.bistum-augsburg.de/gottesdienste/festgottesdienst-
 heilige-messe_id1732481
DTSTART;TZID=Europe/Berlin:20260524T084500
DURATION:PT30M
LOCATION:St. Martin
END:VEVENT
END:VCALENDAR
