BEGIN:VCALENDAR
VERSION:2.0
PRODID:-//Sabre//Sabre VObject 4.5.8//EN
CALSCALE:GREGORIAN
BEGIN:VEVENT
UID:sabre-vobject-8e2c1647-21d5-4d07-bf14-75e9a8cc29e0
DTSTAMP:20260425T021023Z
SUMMARY:Abfahrt Seniorenwallfahrt Raiffeisenbank Zaisertshofen
DESCRIPTION:https://www2.bistum-augsburg.de/gottesdienste/abfahrt-seniorenw
 allfahrt-raiffeisenbank-zaisertshofen_id1732489
DTSTART;TZID=Europe/Berlin:20260504T085000
DURATION:PT30M
LOCATION:St. Silvester
END:VEVENT
END:VCALENDAR
