BEGIN:VCALENDAR
VERSION:2.0
PRODID:-//Sabre//Sabre VObject 4.5.8//EN
CALSCALE:GREGORIAN
BEGIN:VEVENT
UID:sabre-vobject-14d14bef-2ed5-4524-abb6-2f4a981af5de
DTSTAMP:20260424T134612Z
SUMMARY:bis 16.00 Uhr ist die Pfarrkirche St. Magnus geöffnet
DESCRIPTION:https://www2.bistum-augsburg.de/gottesdienste/bis-16-00-uhr-ist
 -die-pfarrkirche-st-magnus-geoeffnet_id1732491
DTSTART;TZID=Europe/Berlin:20260531T140000
DURATION:PT30M
LOCATION:St. Magnus
END:VEVENT
END:VCALENDAR
