BEGIN:VCALENDAR
VERSION:2.0
PRODID:-//Sabre//Sabre VObject 4.5.8//EN
CALSCALE:GREGORIAN
BEGIN:VEVENT
UID:sabre-vobject-1fe61dc2-61d0-4731-97f6-f61f7cea25c1
DTSTAMP:20260424T131021Z
SUMMARY:Gottesdienst am Weberkreuz (bei schlechter Witterung in der Pfarrki
 rche) - Heilige Messe
DESCRIPTION:https://www2.bistum-augsburg.de/gottesdienste/gottesdienst-am-w
 eberkreuz-bei-schlechter-witterung-in-der-pfarrkirche-heilige-messe_id1732
 500
DTSTART;TZID=Europe/Berlin:20260512T191500
DURATION:PT30M
LOCATION:St. Silvester
END:VEVENT
END:VCALENDAR
