BEGIN:VCALENDAR
VERSION:2.0
PRODID:-//Sabre//Sabre VObject 4.5.8//EN
CALSCALE:GREGORIAN
BEGIN:VEVENT
UID:sabre-vobject-b509801c-899e-4a25-bebf-dabfdd3dc964
DTSTAMP:20260425T105731Z
SUMMARY:Maiandacht des kath. Frauenbundes auf dem Steingassenberg
DESCRIPTION:https://www2.bistum-augsburg.de/gottesdienste/maiandacht-des-ka
 th-frauenbundes-auf-dem-steingassenberg_id1732528
DTSTART;TZID=Europe/Berlin:20260512T143000
DURATION:PT30M
LOCATION:Mariä Himmelfahrt
END:VEVENT
END:VCALENDAR
