BEGIN:VCALENDAR
VERSION:2.0
PRODID:-//Sabre//Sabre VObject 4.5.8//EN
CALSCALE:GREGORIAN
BEGIN:VEVENT
UID:sabre-vobject-821a9d7c-91af-4b0b-8265-f7ec26d42a85
DTSTAMP:20260425T200448Z
SUMMARY:Rosenkranz
DESCRIPTION:https://www2.bistum-augsburg.de/gottesdienste/rosenkranz_id1732
 540
DTSTART;TZID=Europe/Berlin:20260516T170000
DURATION:PT30M
LOCATION:St. Sixtus
END:VEVENT
END:VCALENDAR
