BEGIN:VCALENDAR
VERSION:2.0
PRODID:-//Sabre//Sabre VObject 4.5.8//EN
CALSCALE:GREGORIAN
BEGIN:VEVENT
UID:sabre-vobject-08f4ea67-63dd-419d-aae5-95281a472f60
DTSTAMP:20260424T133340Z
SUMMARY:Wallfahrermesse in der Klosterkirche
DESCRIPTION:https://www2.bistum-augsburg.de/gottesdienste/wallfahrermesse-i
 n-der-klosterkirche_id1732543
DTSTART;TZID=Europe/Berlin:20260514T080000
DURATION:PT30M
LOCATION:Mariä Himmelfahrt
END:VEVENT
END:VCALENDAR
