BEGIN:VCALENDAR
VERSION:2.0
PRODID:-//Sabre//Sabre VObject 4.5.8//EN
CALSCALE:GREGORIAN
BEGIN:VEVENT
UID:sabre-vobject-cf13d237-1c0d-4bec-a254-22aa5ddba622
DTSTAMP:20260424T150913Z
SUMMARY:Hl. Messe für die Pfarrgemeinde
DESCRIPTION:https://www2.bistum-augsburg.de/gottesdienste/hl-messe-fuer-die
 -pfarrgemeinde_id1732549
DTSTART;TZID=Europe/Berlin:20260517T101500
DURATION:PT30M
LOCATION:St. Blasius
END:VEVENT
END:VCALENDAR
