BEGIN:VCALENDAR
VERSION:2.0
PRODID:-//Sabre//Sabre VObject 4.5.8//EN
CALSCALE:GREGORIAN
BEGIN:VEVENT
UID:sabre-vobject-866e9c08-a27e-4894-8abc-2eeea8b239ce
DTSTAMP:20260424T115919Z
SUMMARY:Rosenkranz in den Anliegen unserer Zeit
DESCRIPTION:https://www2.bistum-augsburg.de/gottesdienste/rosenkranz-in-den
 -anliegen-unserer-zeit_id1732561
DTSTART;TZID=Europe/Berlin:20260506T082500
DURATION:PT30M
LOCATION:Unsere Liebe Frau
END:VEVENT
END:VCALENDAR
