BEGIN:VCALENDAR
VERSION:2.0
PRODID:-//Sabre//Sabre VObject 4.5.8//EN
CALSCALE:GREGORIAN
BEGIN:VEVENT
UID:sabre-vobject-60ad2c9e-1b90-496e-8274-cca071bcb0dc
DTSTAMP:20260424T115904Z
SUMMARY:Maiandacht
DESCRIPTION:https://www2.bistum-augsburg.de/gottesdienste/maiandacht_id1732
 564
DTSTART;TZID=Europe/Berlin:20260508T190000
DURATION:PT30M
LOCATION:Unsere Liebe Frau
END:VEVENT
END:VCALENDAR
