BEGIN:VCALENDAR
VERSION:2.0
PRODID:-//Sabre//Sabre VObject 4.5.8//EN
CALSCALE:GREGORIAN
BEGIN:VEVENT
UID:sabre-vobject-6cd2a072-ea08-4fb8-bfb4-81f60fc9a82e
DTSTAMP:20260424T074834Z
SUMMARY:Maiandacht
DESCRIPTION:https://www2.bistum-augsburg.de/gottesdienste/maiandacht_id1732
 576
DTSTART;TZID=Europe/Berlin:20260504T180000
DURATION:PT30M
LOCATION:Heilig Kreuz
END:VEVENT
END:VCALENDAR
