BEGIN:VCALENDAR
VERSION:2.0
PRODID:-//Sabre//Sabre VObject 4.5.8//EN
CALSCALE:GREGORIAN
BEGIN:VEVENT
UID:sabre-vobject-d085d3f5-dbf0-4d80-9d16-50f864f1d822
DTSTAMP:20260424T092819Z
SUMMARY:Laudes
DESCRIPTION:https://www2.bistum-augsburg.de/gottesdienste/laudes_id1732595
DTSTART;TZID=Europe/Berlin:20260428T081500
DURATION:PT30M
LOCATION:Basilica minor St. Michael
END:VEVENT
END:VCALENDAR
