BEGIN:VCALENDAR
VERSION:2.0
PRODID:-//Sabre//Sabre VObject 4.5.8//EN
CALSCALE:GREGORIAN
BEGIN:VEVENT
UID:sabre-vobject-f27e723a-5dc4-477d-a7e8-4119254611d8
DTSTAMP:20260425T153032Z
SUMMARY:Bittgang nach Nattenhausen (ab Kirchplatz)
DESCRIPTION:https://www2.bistum-augsburg.de/gottesdienste/bittgang-nach-nat
 tenhausen-ab-kirchplatz_id1732606
DTSTART;TZID=Europe/Berlin:20260511T184500
DURATION:PT30M
LOCATION:Heilig Kreuz
END:VEVENT
END:VCALENDAR
