BEGIN:VCALENDAR
VERSION:2.0
PRODID:-//Sabre//Sabre VObject 4.5.8//EN
CALSCALE:GREGORIAN
BEGIN:VEVENT
UID:sabre-vobject-78eebf33-6c11-4e3e-b25c-247c71ede00f
DTSTAMP:20260424T083858Z
SUMMARY:Maiandacht in Burgstall
DESCRIPTION:https://www2.bistum-augsburg.de/gottesdienste/maiandacht-in-bur
 gstall_id1732646
DTSTART;TZID=Europe/Berlin:20260525T190000
DURATION:PT30M
LOCATION:St. Sixtus
END:VEVENT
END:VCALENDAR
