BEGIN:VCALENDAR
VERSION:2.0
PRODID:-//Sabre//Sabre VObject 4.5.8//EN
CALSCALE:GREGORIAN
BEGIN:VEVENT
UID:sabre-vobject-6e2f377b-496a-4dce-b392-f8e0308dd658
DTSTAMP:20260425T132656Z
SUMMARY:Pfingstnovene im Obergemach
DESCRIPTION:https://www2.bistum-augsburg.de/gottesdienste/pfingstnovene-im-
 obergemach_id1732652
DTSTART;TZID=Europe/Berlin:20260521T200000
DURATION:PT30M
LOCATION:St. Martin
END:VEVENT
END:VCALENDAR
