BEGIN:VCALENDAR
VERSION:2.0
PRODID:-//Sabre//Sabre VObject 4.5.8//EN
CALSCALE:GREGORIAN
BEGIN:VEVENT
UID:sabre-vobject-623a35b4-79d9-4a98-9837-ca328a5cbafa
DTSTAMP:20260424T100817Z
SUMMARY:Laudes mit Heiliger Messe
DESCRIPTION:https://www2.bistum-augsburg.de/gottesdienste/laudes-mit-heilig
 er-messe_id1732653
DTSTART;TZID=Europe/Berlin:20260522T080000
DURATION:PT30M
LOCATION:St. Martin
END:VEVENT
END:VCALENDAR
