BEGIN:VCALENDAR
VERSION:2.0
PRODID:-//Sabre//Sabre VObject 4.5.8//EN
CALSCALE:GREGORIAN
BEGIN:VEVENT
UID:sabre-vobject-8cdef92e-4697-4d1f-971e-5f57fde34f21
DTSTAMP:20260425T005751Z
SUMMARY:Pfingstnovene im Obergemach
DESCRIPTION:https://www2.bistum-augsburg.de/gottesdienste/pfingstnovene-im-
 obergemach_id1732654
DTSTART;TZID=Europe/Berlin:20260522T200000
DURATION:PT30M
LOCATION:St. Martin
END:VEVENT
END:VCALENDAR
