BEGIN:VCALENDAR
VERSION:2.0
PRODID:-//Sabre//Sabre VObject 4.5.8//EN
CALSCALE:GREGORIAN
BEGIN:VEVENT
UID:sabre-vobject-a1b359df-cdae-4e06-bbc2-4393aa44b9c6
DTSTAMP:20260424T211340Z
SUMMARY:Rosenkranz
DESCRIPTION:https://www2.bistum-augsburg.de/gottesdienste/rosenkranz_id1732
 660
DTSTART;TZID=Europe/Berlin:20260426T081500
DURATION:PT30M
LOCATION:St. Afra
END:VEVENT
END:VCALENDAR
