BEGIN:VCALENDAR
VERSION:2.0
PRODID:-//Sabre//Sabre VObject 4.5.8//EN
CALSCALE:GREGORIAN
BEGIN:VEVENT
UID:sabre-vobject-45f763eb-dbd1-4ac5-b24e-2de7688fb9f1
DTSTAMP:20260425T033215Z
SUMMARY:Bittmesse
DESCRIPTION:https://www2.bistum-augsburg.de/gottesdienste/bittmesse_id17326
 78
DTSTART;TZID=Europe/Berlin:20260511T190000
DURATION:PT30M
LOCATION:Heilig Kreuz\, Hs.-Nr. 18\, 82272 Purk
END:VEVENT
END:VCALENDAR
