BEGIN:VCALENDAR
VERSION:2.0
PRODID:-//Sabre//Sabre VObject 4.5.8//EN
CALSCALE:GREGORIAN
BEGIN:VEVENT
UID:sabre-vobject-2036cb59-ada9-4e78-b648-b6aee278394a
DTSTAMP:20260424T013718Z
SUMMARY:Die Kinderkirche macht Ferien - Herzliche Einladung zum Gemeindegot
 tesdienst
DESCRIPTION:https://www2.bistum-augsburg.de/gottesdienste/die-kinderkirche-
 macht-ferien-herzliche-einladung-zum-gemeindegottesdienst_id1732692
DTSTART;TZID=Europe/Berlin:20260531T103000
DURATION:PT30M
LOCATION:Christkönig
END:VEVENT
END:VCALENDAR
