BEGIN:VCALENDAR
VERSION:2.0
PRODID:-//Sabre//Sabre VObject 4.5.8//EN
CALSCALE:GREGORIAN
BEGIN:VEVENT
UID:sabre-vobject-e5440bc4-8ecb-49ca-9dd2-0d93c0f82553
DTSTAMP:20260424T013554Z
SUMMARY:Laudes
DESCRIPTION:https://www2.bistum-augsburg.de/gottesdienste/laudes_id1732708
DTSTART;TZID=Europe/Berlin:20260505T081500
DURATION:PT30M
LOCATION:Basilica minor St. Michael
END:VEVENT
END:VCALENDAR
