BEGIN:VCALENDAR
VERSION:2.0
PRODID:-//Sabre//Sabre VObject 4.5.8//EN
CALSCALE:GREGORIAN
BEGIN:VEVENT
UID:sabre-vobject-0ea6caab-8626-47d0-942e-e2f687b9c943
DTSTAMP:20260425T021540Z
SUMMARY:Hl. Amt \n - f. d. Pfarrgemeinden
DESCRIPTION:https://www2.bistum-augsburg.de/gottesdienste/hl-amt-f-d-pfarrg
 emeinden_id1732720
DTSTART;TZID=Europe/Berlin:20260517T103000
DURATION:PT30M
LOCATION:Heilig Kreuz
END:VEVENT
END:VCALENDAR
