BEGIN:VCALENDAR
VERSION:2.0
PRODID:-//Sabre//Sabre VObject 4.5.8//EN
CALSCALE:GREGORIAN
BEGIN:VEVENT
UID:sabre-vobject-fb61223c-2147-4773-b743-36b142dfd2dd
DTSTAMP:20260424T174510Z
SUMMARY:feierliche Maiandacht\nmit den Kommunionkindern unserer Pfarreienge
 meinschaft
DESCRIPTION:https://www2.bistum-augsburg.de/gottesdienste/feierliche-maiand
 acht-mit-den-kommunionkindern-unserer-pfarreiengemeinschaft_id1732721
DTSTART;TZID=Europe/Berlin:20260517T190000
DURATION:PT30M
LOCATION:Heilig Kreuz
END:VEVENT
END:VCALENDAR
