BEGIN:VCALENDAR
VERSION:2.0
PRODID:-//Sabre//Sabre VObject 4.5.8//EN
CALSCALE:GREGORIAN
BEGIN:VEVENT
UID:sabre-vobject-25d095ea-38f6-40d5-a0ef-aa131d3a1433
DTSTAMP:20260425T150908Z
SUMMARY:Heilige Messe
DESCRIPTION:https://www2.bistum-augsburg.de/gottesdienste/heilige-messe_id1
 732723
DTSTART;TZID=Europe/Berlin:20260504T191500
DURATION:PT30M
LOCATION:St. Nikolaus\, Hofbergstr. 1\, 86869 Oberostendorf Lengenfeld
END:VEVENT
END:VCALENDAR
