BEGIN:VCALENDAR
VERSION:2.0
PRODID:-//Sabre//Sabre VObject 4.5.8//EN
CALSCALE:GREGORIAN
BEGIN:VEVENT
UID:sabre-vobject-fc8225e0-50c7-4ea7-a171-fa1a1db97646
DTSTAMP:20260425T103310Z
SUMMARY:Heilige Messe
DESCRIPTION:https://www2.bistum-augsburg.de/gottesdienste/heilige-messe_id1
 732724
DTSTART;TZID=Europe/Berlin:20260509T191500
DURATION:PT30M
LOCATION:St. Nikolaus\, Hofbergstr. 1\, 86869 Oberostendorf Lengenfeld
END:VEVENT
END:VCALENDAR
