BEGIN:VCALENDAR
VERSION:2.0
PRODID:-//Sabre//Sabre VObject 4.5.8//EN
CALSCALE:GREGORIAN
BEGIN:VEVENT
UID:sabre-vobject-f1f9de07-9918-4c3d-9937-a6f2454a9a4c
DTSTAMP:20260424T161540Z
SUMMARY:Heilige Messe in St. Johann
DESCRIPTION:https://www2.bistum-augsburg.de/gottesdienste/heilige-messe-in-
 st-johann_id1732785
DTSTART;TZID=Europe/Berlin:20260505T191500
DURATION:PT30M
LOCATION:St. Georg\, Georgibergstraße 33\, 87656 Untergermaringen
END:VEVENT
END:VCALENDAR
