BEGIN:VCALENDAR
VERSION:2.0
PRODID:-//Sabre//Sabre VObject 4.5.8//EN
CALSCALE:GREGORIAN
BEGIN:VEVENT
UID:sabre-vobject-3f4686df-2f11-4e2f-87ea-5ce97aec937d
DTSTAMP:20260424T162713Z
SUMMARY:Bittgang mit den Obergermaringen und Hl. Messe in St. Johann
DESCRIPTION:https://www2.bistum-augsburg.de/gottesdienste/bittgang-mit-den-
 obergermaringen-und-hl-messe-in-st-johann_id1732789
DTSTART;TZID=Europe/Berlin:20260512T184500
DURATION:PT30M
LOCATION:St. Georg\, Georgibergstraße 33\, 87656 Untergermaringen
END:VEVENT
END:VCALENDAR
