BEGIN:VCALENDAR
VERSION:2.0
PRODID:-//Sabre//Sabre VObject 4.5.8//EN
CALSCALE:GREGORIAN
BEGIN:VEVENT
UID:sabre-vobject-e6f573df-f3ea-4f45-85ec-2caf97f0f0ba
DTSTAMP:20260425T214534Z
SUMMARY:Pfingstnovene
DESCRIPTION:https://www2.bistum-augsburg.de/gottesdienste/pfingstnovene_id1
 732800
DTSTART;TZID=Europe/Berlin:20260516T180000
DURATION:PT30M
LOCATION:St. Georg\, Georgenstr. 20\, 86456 Gablingen-Lützelburg
END:VEVENT
END:VCALENDAR
